BEGIN:VCALENDAR
VERSION:2.0
PRODID:-//Tukios.com/
BEGIN:VEVENT
UID:8fe58cc6-4d94-4eb6-957c-3227ced12855@www.askewfuneralhome.com
DTSTAMP:20260424T201124Z
DTSTART:20260430T180000Z
DTEND:20260430T190000Z
SUMMARY:Memorial Service
DESCRIPTION:
URL:https://www.askewfuneralhome.com/obituaries/wilma-brandt
LOCATION:Our Savior Lutheran Church 508 Division Ave N  Cavalier ND 58220
GEO:48.7982366;-97.6219355
END:VEVENT
END:VCALENDAR