BEGIN:VCALENDAR
VERSION:2.0
PRODID:-//Tukios.com/
BEGIN:VEVENT
UID:6dae48a0-734f-4a02-9da4-698b9b508d03@www.askewfuneralhome.com
DTSTAMP:20260424T201717Z
DTSTART:20260430T170000Z
DTEND:20260430T180000Z
SUMMARY:Visitation
DESCRIPTION:
URL:https://www.askewfuneralhome.com/obituaries/wilma-brandt
LOCATION:Our Savior Lutheran Church 508 Division Ave N  Cavalier ND 58220
GEO:48.7982366;-97.6219355
END:VEVENT
END:VCALENDAR