BEGIN:VCALENDAR
VERSION:2.0
PRODID:-//Tukios.com/
BEGIN:VEVENT
UID:3121024d-472f-4bc6-bfec-f2094cdc0cb6@www.askewfuneralhome.com
DTSTAMP:20260424T201739Z
DTSTART:20260501T173000Z
DTEND:20260501T183000Z
SUMMARY:Visitation
DESCRIPTION:
URL:https://www.askewfuneralhome.com/obituaries/phyllis-danielson
LOCATION:Askew Funeral Home 209 Elizabeth Street  Cavalier ND 58220
GEO:48.7947011;-97.6252361
END:VEVENT
END:VCALENDAR