BEGIN:VCALENDAR
VERSION:2.0
PRODID:-//Tukios.com/
BEGIN:VEVENT
UID:b7fd963a-a41d-4469-b6f6-dd501aa4b8f3@www.askewfuneralhome.com
DTSTAMP:20260424T201918Z
DTSTART:20260501T183000Z
DTEND:20260501T193000Z
SUMMARY:Funeral Service
DESCRIPTION:
URL:https://www.askewfuneralhome.com/obituaries/phyllis-danielson
LOCATION:Askew Funeral Home 209 Elizabeth Street  Cavalier ND 58220
GEO:48.7947011;-97.6252361
END:VEVENT
END:VCALENDAR