BEGIN:VCALENDAR
VERSION:2.0
PRODID:-//Tukios.com/
BEGIN:VEVENT
UID:d397e619-2cb1-4b9d-8d76-f279f1bbe302@www.askewfuneralhome.com
DTSTAMP:20260421T090324Z
DTSTART:20260502T150000Z
DTEND:20260502T160000Z
SUMMARY:Visitation
DESCRIPTION:
URL:https://www.askewfuneralhome.com/obituaries/lloyd-northagen
LOCATION:Walhalla Lutheran Church 416 Central Ave  Walhalla ND 58282
GEO:48.9183263;-97.9228932
END:VEVENT
END:VCALENDAR