BEGIN:VCALENDAR
VERSION:2.0
PRODID:-//Tukios.com/
BEGIN:VEVENT
UID:982678ad-5262-4c7d-905c-3fd51e0ea5f8@www.askewfuneralhome.com
DTSTAMP:20260421T220315Z
DTSTART:20260428T150000Z
DTEND:20260428T160000Z
SUMMARY:Visitation
DESCRIPTION:
URL:https://www.askewfuneralhome.com/obituaries/keith-fitzsimonds
LOCATION: 801 Central Ave  Walhalla ND 58282
GEO:48.9217265;-97.9177957
END:VEVENT
END:VCALENDAR