BEGIN:VCALENDAR
VERSION:2.0
PRODID:-//Tukios.com/
BEGIN:VEVENT
UID:6c9be345-ab00-4a41-bb71-8a76739172d0@www.askewfuneralhome.com
DTSTAMP:20260421T220003Z
DTSTART:20260428T160000Z
DTEND:20260428T170000Z
SUMMARY:Mass
DESCRIPTION:
URL:https://www.askewfuneralhome.com/obituaries/keith-fitzsimonds
LOCATION: 801 Central Ave  Walhalla ND 58282
GEO:48.9217265;-97.9177957
END:VEVENT
END:VCALENDAR