BEGIN:VCALENDAR
VERSION:2.0
PRODID:-//Tukios.com/
BEGIN:VEVENT
UID:162d64ed-b822-4d11-a8a1-101eec3feb50@www.askewfuneralhome.com
DTSTAMP:20260425T185947Z
DTSTART:20260502T153000Z
DTEND:20260502T163000Z
SUMMARY:Celebration of Life
DESCRIPTION:
URL:https://www.askewfuneralhome.com/obituaries/elwood-blair
LOCATION:Bathgate Presbyterian Church County Road 1  Bathgate ND 58216
GEO:48.8773492;-97.4762946
END:VEVENT
END:VCALENDAR